BEGIN:VCALENDAR
VERSION:2.0
PRODID:-//wp-events-plugin.com//6.6.4.4//EN
TZID:Asia/Jerusalem
X-WR-TIMEZONE:Asia/Jerusalem
BEGIN:VEVENT
UID:89@ugportal.technion.ac.il
DTSTART;TZID=Asia/Jerusalem:20250915T000000
DTEND;TZID=Asia/Jerusalem:20250915T000000
DTSTAMP:20250714T071944Z
URL:https://ugportal.technion.ac.il/events/%d7%98%d7%a7%d7%a1-%d7%9e%d7%a6
 %d7%98%d7%99%d7%99%d7%a0%d7%99-%d7%97%d7%95%d7%a8%d7%a3-%d7%aa%d7%a9%d7%a4
 %d7%94/
SUMMARY:טקס מצטייני חורף תשפ"ה
DESCRIPTION:Lecturer:\n Location:\n Zoom: \n  טקס מצטייני חור
 ף תשפ"ה יתקיים בתאריך 15.9.2025\, למידע נוסף ע
 ל ההצטיינות והטקס בעמוד\, הצטיינות בלימו
 דים.
CATEGORIES:לימודי הסמכה
END:VEVENT
BEGIN:VTIMEZONE
TZID:Asia/Jerusalem
X-LIC-LOCATION:Asia/Jerusalem
BEGIN:DAYLIGHT
DTSTART:20250328T030000
TZOFFSETFROM:+0200
TZOFFSETTO:+0300
TZNAME:IDT
END:DAYLIGHT
END:VTIMEZONE
END:VCALENDAR