BEGIN:VCALENDAR
VERSION:2.0
PRODID:-//wp-events-plugin.com//6.6.4.4//EN
TZID:Asia/Jerusalem
X-WR-TIMEZONE:Asia/Jerusalem
BEGIN:VEVENT
UID:18@ugportal.technion.ac.il
DTSTART;TZID=Asia/Jerusalem;VALUE=DATE:20230405
DTEND;TZID=Asia/Jerusalem;VALUE=DATE:20230414
DTSTAMP:20230404T050739Z
URL:https://ugportal.technion.ac.il/events/%d7%97%d7%92-%d7%a4%d7%a1%d7%97
 /
SUMMARY:חג פסח
DESCRIPTION:Lecturer:\n Location:\n Zoom: \n  משרדי הטכניון י
 היו סגורים לרגל חופשת החג
CATEGORIES:יחידות שונות,לימודי הסמכה
END:VEVENT
BEGIN:VTIMEZONE
TZID:Asia/Jerusalem
X-LIC-LOCATION:Asia/Jerusalem
BEGIN:DAYLIGHT
DTSTART:20230324T030000
TZOFFSETFROM:+0200
TZOFFSETTO:+0300
TZNAME:IDT
END:DAYLIGHT
END:VTIMEZONE
END:VCALENDAR